BEGIN:VCALENDAR
VERSION:2.0
PRODID:-//ChamberMaster//Event Calendar 2.0//EN
METHOD:PUBLISH
X-PUBLISHED-TTL:P1H
REFRESH-INTERVAL:P1H
CALSCALE:GREGORIAN
BEGIN:VTIMEZONE
TZID:America/New_York
BEGIN:DAYLIGHT
RRULE:FREQ=YEARLY;BYMONTH=3;BYDAY=2SU
DTSTART:20070101T000000
TZOFFSETFROM:-0500
TZOFFSETTO:-0400
TZNAME:Eastern Daylight Time
END:DAYLIGHT
BEGIN:STANDARD
RRULE:FREQ=YEARLY;BYMONTH=11;BYDAY=1SU
DTSTART:20070101T000000
TZOFFSETFROM:-0400
TZOFFSETTO:-0500
TZNAME:Eastern Standard Time
END:STANDARD
END:VTIMEZONE
BEGIN:VEVENT
DTSTART;VALUE=DATE:20261011
DTEND;VALUE=DATE:20261014
TRANSP:TRANSPARENT
X-MICROSOFT-CDO-ALLDAYEVENT:TRUE
SUMMARY:National Summit for Middle Market Funds
DESCRIPTION:The National Summit for Middle Market Funds is the lower middle market's premier networking and fundraising conference. Designed to inform\, educate\, and celebrate the industry\, this annual gathering brings together senior-level professionals for high-quality connections and actionable insights.Held annually\, the National Summit combines impactful networking\, top-tier industry content\, and CapitaLinx   SBIA's exclusive GP/LP matchmaking platform that connects institutional investors with lower middle market funds in a targeted and efficient manner.\n\nVisit the National Summit home page to learn more
X-ALT-DESC;FMTTYPE=text/html:<!DOCTYPE html><html><head><title></title></head><body aria-disabled="false"><p>The National Summit for Middle Market Funds is the lower middle market&rsquo\;s premier networking and fundraising conference. Designed to inform\, educate\, and celebrate the industry\, this annual gathering brings together senior-level professionals for high-quality connections and actionable insights.</p><p>Held annually\, the National Summit combines impactful networking\, top-tier industry content\, and CapitaLinx &mdash\; SBIA&rsquo\;s exclusive GP/LP matchmaking platform that connects institutional investors with lower middle market funds in a targeted and efficient manner.<br><br></p><p><a fr-original-style="" href="https://sbia.org/national-summit-for-middle-market-funds/" rel="noopener noreferrer" style="user-select: auto\;" target="_blank">Visit the National Summit home page to learn more</a>&nbsp\;&gt\;</p></body></html>
LOCATION:501 E Camino Real Boca Raton FL 33432
UID:e.3233.1406820
SEQUENCE:3
DTSTAMP:20260425T194044Z
URL:https://smallbusinessinvestoralliance.growthzoneapp.com/events/Details/national-summit-for-middle-market-funds-1662722?sourceTypeId=Hub
END:VEVENT
END:VCALENDAR
