BEGIN:VCALENDAR
VERSION:2.0
PRODID:-//ChamberMaster//Event Calendar 2.0//EN
METHOD:PUBLISH
X-PUBLISHED-TTL:P1H
REFRESH-INTERVAL:P1H
CALSCALE:GREGORIAN
BEGIN:VTIMEZONE
TZID:America/New_York
BEGIN:DAYLIGHT
RRULE:FREQ=YEARLY;BYMONTH=3;BYDAY=2SU
DTSTART:20070101T000000
TZOFFSETFROM:-0500
TZOFFSETTO:-0400
TZNAME:Eastern Daylight Time
END:DAYLIGHT
BEGIN:STANDARD
RRULE:FREQ=YEARLY;BYMONTH=11;BYDAY=1SU
DTSTART:20070101T000000
TZOFFSETFROM:-0400
TZOFFSETTO:-0500
TZNAME:Eastern Standard Time
END:STANDARD
END:VTIMEZONE
BEGIN:VEVENT
DTSTART;TZID=America/New_York:20260616T183000
DTEND;TZID=America/New_York:20260616T213000
X-MICROSOFT-CDO-ALLDAYEVENT:FALSE
SUMMARY:2026 Lower Middle Market Dinner Series - New York\, NY
DESCRIPTION:The Small Business Investor Alliance's Lower Middle Market Dinner Series offers a unique opportunity for a thoughtfully curated mix of Capital Providers\, Independent Sponsors and Investment Bankers to meet and mingle in an informal setting. On Tuesday\, June 16 we will be hosting a dinner in New York\, NY. Please reach out to Stephanie McAlaine\, Chief Membership Officer\, to learn more about the Lower Middle Market Dinner Series\, SBIA's event series focused on bringing together select groups of senior-level private equity professionals for intimate dinners carefully curated to facilitate valuable business connections.
X-ALT-DESC;FMTTYPE=text/html:<!DOCTYPE html><html><head><title></title></head><body aria-disabled="false"><p>The Small Business Investor Alliance&#39\;s Lower Middle Market Dinner Series offers a unique opportunity for a thoughtfully curated mix of Capital Providers\, Independent Sponsors and Investment Bankers to meet and mingle in an informal setting. On <strong fr-original-style="" style="font-weight: 700\;">Tuesday\, June 16</strong> we will be hosting a dinner in <strong fr-original-style="" style="font-weight: 700\;">New York\, NY</strong>.&nbsp\;</p><p>Please reach out to <a fr-original-style="" href="mailto:membership@sbia.org" style="user-select: auto\;">Stephanie McAlaine</a>\, Chief Membership Officer\, to learn more about the Lower Middle Market Dinner Series\, SBIA&#39\;s event series focused on bringing together select groups of senior-level private equity professionals for intimate dinners carefully curated to facilitate valuable business connections.</p></body></html>
LOCATION:1221 Ave of the Americas New York NY 10020
UID:e.3233.1442715
SEQUENCE:3
DTSTAMP:20260425T194044Z
URL:https://smallbusinessinvestoralliance.growthzoneapp.com/events/Details/2026-lower-middle-market-dinner-series-new-york-ny-1708778?sourceTypeId=Hub
END:VEVENT
END:VCALENDAR
